BEGIN:VCALENDAR
VERSION:2.0
PRODID:ShowClix//ShowClix//EN
BEGIN:VTIMEZONE
TZID:Pacific/Auckland
BEGIN:STANDARD
DTSTART:20190406T140000
TZOFFSETFROM:+1300
TZOFFSETTO:+1200
TZNAME:NZST
END:STANDARD
BEGIN:DAYLIGHT
DTSTART:20190928T140000
TZOFFSETFROM:+1200
TZOFFSETTO:+1300
TZNAME:NZDT
END:DAYLIGHT
END:VTIMEZONE
BEGIN:VEVENT
DTSTART;TZID=Pacific/Auckland:20190223T090000
DTEND;TZID=Pacific/Auckland:20190224T160000
SUMMARY:SHOT Expo 2019
DESCRIPTION:Show details available at https://events.ticketbooth.co.nz/event/shot-expo-2019
LOCATION:ASB Showgrounds
GEO:-36.892989;174.783379
END:VEVENT
END:VCALENDAR
